BEGIN:VCALENDAR
PRODID:-//eluceo/ical//2.0/EN
VERSION:2.0
CALSCALE:GREGORIAN
BEGIN:VEVENT
UID:9caa2456682f0d47a2e80caeea7756fa
DTSTAMP:20260423T113503Z
SUMMARY:Financial Literacy Seminar
DESCRIPTION:Jewish Federation of Central Massachusetts\nCalendar\nhttps://j
 ewishcentralmass.org/calendar/financial-literacy-seminar\n\nMarch 8th:  S
 ave the date for JFCM’s  “Financial Literacy Seminar” for young adu
 lts and young families\, 4:30 pm
DTSTART;TZID=America/New_York:20200308T163000
DTEND;TZID=America/New_York:20200308T183000
END:VEVENT
END:VCALENDAR
