BEGIN:VCALENDAR
PRODID:-//eluceo/ical//2.0/EN
VERSION:2.0
CALSCALE:GREGORIAN
BEGIN:VEVENT
UID:54de18b16e1160259c25adb43937e94d
DTSTAMP:20260420T191931Z
SUMMARY:Film Festival Encore Screening
DESCRIPTION:Jewish Federation of Central Massachusetts\nCalendar\nhttps://j
 ewishcentralmass.org/calendar/film-festival-encore-screening\n\nTuesday\, 
 May 16\, Encore Screening of The Women’s Balcony
DTSTART;TZID=America/New_York:20170516T190000
DTEND;TZID=America/New_York:20170516T210000
END:VEVENT
END:VCALENDAR
