BEGIN:VCALENDAR
PRODID:-//eluceo/ical//2.0/EN
VERSION:2.0
CALSCALE:GREGORIAN
BEGIN:VEVENT
UID:b1d537396a2f388faaeabb7b64b21729
DTSTAMP:20260422T010906Z
SUMMARY:Federation - Shaarai Torah Building Meeting
DESCRIPTION:Jewish Federation of Central Massachusetts\nCalendar\nhttps://j
 ewishcentralmass.org/calendar/federation-shaarai-torah-building-meeting\n\
 nWednesday Jan. 8th. \n\nFederation committee to discuss the Shaarai Torah
  Building.  \n\nSupper meeting 6-8pm.  Location to be announced.
DTSTART;TZID=America/New_York:20250108T180000
DTEND;TZID=America/New_York:20250108T200000
END:VEVENT
END:VCALENDAR
