BEGIN:VCALENDAR
PRODID:-//eluceo/ical//2.0/EN
VERSION:2.0
CALSCALE:GREGORIAN
BEGIN:VEVENT
UID:871dbde44310f6129764ec8a7cba89f9
DTSTAMP:20260423T031324Z
SUMMARY:Fed Rosh Chodesh Women's Tea (Juneteenth) with Torah Center
DESCRIPTION:Jewish Federation of Central Massachusetts\nCalendar\nhttps://j
 ewishcentralmass.org/calendar/fed-rosh-chodesh-womens-tea-juneteenth-with-
 torah-center\n\nJune 19th\, 7:00 pm Fed Rosh Chodesh Women's Tea (Juneteen
 th) with Torah Center
DTSTART;TZID=America/New_York:20230619T190000
DTEND;TZID=America/New_York:20230619T210000
END:VEVENT
END:VCALENDAR
