BEGIN:VCALENDAR
PRODID:-//eluceo/ical//2.0/EN
VERSION:2.0
CALSCALE:GREGORIAN
BEGIN:VEVENT
UID:548d17e9fb181fd40d5350ee38df6deb
DTSTAMP:20260423T140810Z
SUMMARY:FBI Instructed  “Active Shooter” (ASAAP) Training
DESCRIPTION:Jewish Federation of Central Massachusetts\nCalendar\nhttps://j
 ewishcentralmass.org/calendar/fbi-instructed-active-shooter-asaap-training
 \n\nFBI Instructed  “Active Shooter” (ASAAP) Training\n\nWednesday\, 
 September 25th\n\nJHC Auditorium \n\n6:00 pm to 8:00 pm \n\n \n\nFood 
 will be provided. \n\n \n\nThis training include actionable hands-on ele
 ments. \n\n \n\nPlease RSVP to Director@jfcm.org with training in the su
 bject line.
DTSTART;TZID=America/New_York:20240925T180000
DTEND;TZID=America/New_York:20240925T200000
END:VEVENT
END:VCALENDAR
