BEGIN:VCALENDAR
PRODID:-//eluceo/ical//2.0/EN
VERSION:2.0
CALSCALE:GREGORIAN
BEGIN:VEVENT
UID:80f4a10e7ffe9f1da454b587095af393
DTSTAMP:20260422T052631Z
SUMMARY:Father's Day
DESCRIPTION:Jewish Federation of Central Massachusetts\nCalendar\nhttps://j
 ewishcentralmass.org/calendar/fathers_day\n\nFather's Day
DTSTART;TZID=America/New_York:20320620T000000
DTEND;TZID=America/New_York:20320620T235959
END:VEVENT
END:VCALENDAR
