BEGIN:VCALENDAR
PRODID:-//eluceo/ical//2.0/EN
VERSION:2.0
CALSCALE:GREGORIAN
BEGIN:VEVENT
UID:2ea382edfe2c4f2dc08f54c1f7b47ced
DTSTAMP:20260422T143257Z
SUMMARY:FATHERS DAY
DESCRIPTION:Jewish Federation of Central Massachusetts\nCalendar\nhttps://j
 ewishcentralmass.org/calendar/fathers-day\n\nFATHERS DAY
DTSTART;TZID=America/New_York:20130616T000000
DTEND;TZID=America/New_York:20130616T235900
END:VEVENT
END:VCALENDAR
