BEGIN:VCALENDAR
PRODID:-//eluceo/ical//2.0/EN
VERSION:2.0
CALSCALE:GREGORIAN
BEGIN:VEVENT
UID:d9c94f062b2817bef8d2c9e9114af77d
DTSTAMP:20260422T235358Z
SUMMARY:Fast of Esther 5785
DESCRIPTION:Jewish Federation of Central Massachusetts\nCalendar\nhttps://j
 ewishcentralmass.org/calendar/fast-of-esther-5785\n\nFast of Esther
DTSTART;TZID=America/New_York:20250313T000000
DTEND;TZID=America/New_York:20250313T235959
END:VEVENT
END:VCALENDAR
