BEGIN:VCALENDAR
PRODID:-//eluceo/ical//2.0/EN
VERSION:2.0
CALSCALE:GREGORIAN
BEGIN:VEVENT
UID:77fdeac41cf2d91ae05693f42fd5fdfa
DTSTAMP:20260421T211315Z
SUMMARY:Fast of 10th of Tevet 5785
DESCRIPTION:Jewish Federation of Central Massachusetts\nCalendar\nhttps://j
 ewishcentralmass.org/calendar/fast-of-10th-of-tevet-5785\n\nFast of 10th o
 f Tevet 5785
DTSTART;TZID=America/New_York:20250110T000000
DTEND;TZID=America/New_York:20250110T235959
END:VEVENT
END:VCALENDAR
