BEGIN:VCALENDAR
PRODID:-//eluceo/ical//2.0/EN
VERSION:2.0
CALSCALE:GREGORIAN
BEGIN:VEVENT
UID:4b180bdb318ddf1a3aa67b42e34c19b2
DTSTAMP:20260421T002657Z
SUMMARY:Farewell Tommy Celebration
DESCRIPTION:Jewish Federation of Central Massachusetts\nCalendar\nhttps://j
 ewishcentralmass.org/calendar/farewell-tommy\n\nPlease join us as we say L
 ’hitraot to our Shlicha\, Tommy\n\nWednesday\, June 7th at 6PM\n\nWorces
 ter JCC Courtyard\n\nPizza and salads\n\nRSVP Liz Baker Lizkbaker58@gmail.
 com
DTSTART;TZID=America/New_York:20230607T180000
DTEND;TZID=America/New_York:20230607T200000
END:VEVENT
END:VCALENDAR
