BEGIN:VCALENDAR
PRODID:-//eluceo/ical//2.0/EN
VERSION:2.0
CALSCALE:GREGORIAN
BEGIN:VEVENT
UID:65cc3b337762ca3e70fbf0c33de11a26
DTSTAMP:20260423T234947Z
SUMMARY:Farewell to Andrea Sullivan\, JCC Deputy Director
DESCRIPTION:Jewish Federation of Central Massachusetts\nCalendar\nhttps://j
 ewishcentralmass.org/calendar/farewell-to-andrea-sullivan-jcc-deputy-direc
 tor\n\nPlease join us in celebrating Andrea's contributions to the JCC and
  join us in wishing her well on Tuesday\, April 22\; 9:30 – 11:00 am\, J
 CC Lobby Lounge.\n\nPlease bring your warm wishes and an appetite\; refres
 hments will be served.\n\n\n...
DTSTART;TZID=America/New_York:20250422T093000
DTEND;TZID=America/New_York:20250422T110000
END:VEVENT
END:VCALENDAR
