BEGIN:VCALENDAR
PRODID:-//eluceo/ical//2.0/EN
VERSION:2.0
CALSCALE:GREGORIAN
BEGIN:VEVENT
UID:b61be871244839cff3155ee4535cbc03
DTSTAMP:20260423T210418Z
SUMMARY:Farewell Party for JFCM Executive Director Howard Borer
DESCRIPTION:Jewish Federation of Central Massachusetts\nCalendar\nhttps://j
 ewishcentralmass.org/calendar/farewell-party-for-jfcm-executive-director-h
 oward-borer\n\nFarewell party for JFCM Executive Director Howard Borer\n\n
 Location TBA
DTSTART;TZID=America/New_York:20160606T190000
DTEND;TZID=America/New_York:20160606T210000
END:VEVENT
END:VCALENDAR
