BEGIN:VCALENDAR
PRODID:-//eluceo/ical//2.0/EN
VERSION:2.0
CALSCALE:GREGORIAN
BEGIN:VEVENT
UID:9e847f4c5fc2c318bd71858d7137f690
DTSTAMP:20260420T204645Z
SUMMARY:Farewell party for Dolev
DESCRIPTION:Jewish Federation of Central Massachusetts\nCalendar\nhttps://j
 ewishcentralmass.org/calendar/farewell-party-for-dolev\n\nFarewell party f
 or Dolev\, Tuesday\, June 4th  6pm\n\nPlease RSVP to Liz Baker\n\n 
DTSTART;TZID=America/New_York:20240604T180000
DTEND;TZID=America/New_York:20240604T200000
END:VEVENT
END:VCALENDAR
