BEGIN:VCALENDAR
PRODID:-//eluceo/ical//2.0/EN
VERSION:2.0
CALSCALE:GREGORIAN
BEGIN:VEVENT
UID:a7044d4ccd1631b5e780b97a1a98dff7
DTSTAMP:20260423T085934Z
SUMMARY:Farewell Aviv BBQ
DESCRIPTION:Jewish Federation of Central Massachusetts\nCalendar\nhttps://j
 ewishcentralmass.org/calendar/farewell-aviv-bbq\n\nFarewell Aviv BBQ
DTSTART;TZID=America/New_York:20220616T180000
DTEND;TZID=America/New_York:20220616T184500
END:VEVENT
END:VCALENDAR
