BEGIN:VCALENDAR
PRODID:-//eluceo/ical//2.0/EN
VERSION:2.0
CALSCALE:GREGORIAN
BEGIN:VEVENT
UID:e2dac54cd76257b415b35c6e782340fd
DTSTAMP:20260423T140317Z
SUMMARY:Jewish Healthcare Center Auxiliary presents Hava Nagila movie
DESCRIPTION:Jewish Federation of Central Massachusetts\nCalendar\nhttps://j
 ewishcentralmass.org/calendar/event-at-jhc\n\nJewish Healthcare Center Aux
 iliary presents Hava Nagila movie\n\nCommunity welcome\n\n6:30 pm
DTSTART;TZID=America/New_York:20191208T183000
DTEND;TZID=America/New_York:20191208T213000
END:VEVENT
END:VCALENDAR
