BEGIN:VCALENDAR
PRODID:-//eluceo/ical//2.0/EN
VERSION:2.0
CALSCALE:GREGORIAN
BEGIN:VEVENT
UID:be80d25e109720b4c1f3bb96496215da
DTSTAMP:20260421T100739Z
SUMMARY:Etched in Glass Film Screening at CBS
DESCRIPTION:Jewish Federation of Central Massachusetts\nCalendar\nhttps://j
 ewishcentralmass.org/calendar/etched-in-glass-film-screening-at-cbs\n\n“
 Etched in Glass” presentation Saturday\, November 23rd\, 7:00pm at CBS.\
 n\nCo sponsored by Congregation B’nai Shalom Sisterhood and Brotherhood 
 and JFCM\n\n 
DTSTART;TZID=America/New_York:20191123T190000
DTEND;TZID=America/New_York:20191123T213000
END:VEVENT
END:VCALENDAR
