BEGIN:VCALENDAR
PRODID:-//eluceo/ical//2.0/EN
VERSION:2.0
CALSCALE:GREGORIAN
BEGIN:VEVENT
UID:ca2b26609e6f77a297dc566fa45002f3
DTSTAMP:20260422T053324Z
SUMMARY:Erev Sukkot 5785
DESCRIPTION:Jewish Federation of Central Massachusetts\nCalendar\nhttps://j
 ewishcentralmass.org/calendar/erev-sukkot-5785\n\nErev Sukkot
DTSTART;TZID=America/New_York:20241016T000000
DTEND;TZID=America/New_York:20241016T235959
END:VEVENT
END:VCALENDAR
