BEGIN:VCALENDAR
PRODID:-//eluceo/ical//2.0/EN
VERSION:2.0
CALSCALE:GREGORIAN
BEGIN:VEVENT
UID:39b9701880f530069c7fd7a76a64b04e
DTSTAMP:20260422T143505Z
SUMMARY:EREV SUKKOT
DESCRIPTION:Jewish Federation of Central Massachusetts\nCalendar\nhttps://j
 ewishcentralmass.org/calendar/erev-sukkot\n\nEREV SUKKOT
DTSTART;TZID=America/New_York:20130918T000000
DTEND;TZID=America/New_York:20130918T235900
END:VEVENT
END:VCALENDAR
