BEGIN:VCALENDAR
PRODID:-//eluceo/ical//2.0/EN
VERSION:2.0
CALSCALE:GREGORIAN
BEGIN:VEVENT
UID:39cc7c893f03fc888b77eaa46ba08900
DTSTAMP:20260422T081151Z
SUMMARY:EREV ROSH HASHANAH
DESCRIPTION:Jewish Federation of Central Massachusetts\nCalendar\nhttps://j
 ewishcentralmass.org/calendar/erev-rosh-hashanah\n\nEREV ROSH HASHANAH
DTSTART;TZID=America/New_York:20130904T000000
DTEND;TZID=America/New_York:20130904T235900
END:VEVENT
END:VCALENDAR
