BEGIN:VCALENDAR
PRODID:-//eluceo/ical//2.0/EN
VERSION:2.0
CALSCALE:GREGORIAN
BEGIN:VEVENT
UID:68a3f1bdd4db631a8272f4d59bca2789
DTSTAMP:20260420T133416Z
SUMMARY:Enchanted Animals Petting Zoo and Pizza Havdalah with PJ Library an
 d CBS
DESCRIPTION:Jewish Federation of Central Massachusetts\nCalendar\nhttps://j
 ewishcentralmass.org/calendar/enchanted-animals-petting-zoo-and-pizza-havd
 alah-with-pj-library-and-cbs\n\nEnchanted Animals Petting Zoo and Pizza Ha
 vdalah with PJ Library and Congregation B'nai Shalom\n\n \n\n3:30 - 5:00 
 pm
DTSTART;TZID=America/New_York:20240504T153000
DTEND;TZID=America/New_York:20240504T170000
END:VEVENT
END:VCALENDAR
