BEGIN:VCALENDAR
PRODID:-//eluceo/ical//2.0/EN
VERSION:2.0
CALSCALE:GREGORIAN
BEGIN:VEVENT
UID:2600f56e447e2fc1ca301734eb426aea
DTSTAMP:20260422T043302Z
SUMMARY:Emissaries' Welcome Reception_2017
DESCRIPTION:Jewish Federation of Central Massachusetts\nCalendar\nhttps://j
 ewishcentralmass.org/calendar/emissaries-welcome-reception_2017\n\nEmissar
 ies' Welcome Reception
DTSTART;TZID=America/New_York:20170914T190000
DTEND;TZID=America/New_York:20170914T210000
END:VEVENT
END:VCALENDAR
