BEGIN:VCALENDAR
PRODID:-//eluceo/ical//2.0/EN
VERSION:2.0
CALSCALE:GREGORIAN
BEGIN:VEVENT
UID:79fc333168643a5f3c7d43f3ec67068c
DTSTAMP:20260423T074353Z
SUMMARY:Emily Rosenbaum Farewell Gathering at JCC
DESCRIPTION:Jewish Federation of Central Massachusetts\nCalendar\nhttps://j
 ewishcentralmass.org/calendar/emilys-farewell-gathering\n\nEmily’s Farew
 ell Gathering\n\nThursday\, May 8 at 6pm \n\nJCC courtyard.
DTSTART;TZID=America/New_York:20250508T180000
DTEND;TZID=America/New_York:20250508T200000
END:VEVENT
END:VCALENDAR
