BEGIN:VCALENDAR
PRODID:-//eluceo/ical//2.0/EN
VERSION:2.0
CALSCALE:GREGORIAN
BEGIN:VEVENT
UID:5828c8c54b5d20a22d4d6818bb0af029
DTSTAMP:20260424T033504Z
SUMMARY:Elie Wiesel: Jeremiah and His Lamentations
DESCRIPTION:Jewish Federation of Central Massachusetts\nCalendar\nhttps://j
 ewishcentralmass.org/calendar/elie-wiesel-jeremiah-and-his-lamentations\n\
 n92nd St Y Live
DTSTART;TZID=America/New_York:20130425T200000
DTEND;TZID=America/New_York:20130425T203000
END:VEVENT
END:VCALENDAR
