BEGIN:VCALENDAR
PRODID:-//eluceo/ical//2.0/EN
VERSION:2.0
CALSCALE:GREGORIAN
BEGIN:VEVENT
UID:564355dae0db9f8218eb057907218ad7
DTSTAMP:20260422T133427Z
SUMMARY:Election Day 2024
DESCRIPTION:Jewish Federation of Central Massachusetts\nCalendar\nhttps://j
 ewishcentralmass.org/calendar/election-day-2024\n\nElection Day 2024
DTSTART;TZID=America/New_York:20241105T000000
DTEND;TZID=America/New_York:20241105T235959
END:VEVENT
END:VCALENDAR
