BEGIN:VCALENDAR
PRODID:-//eluceo/ical//2.0/EN
VERSION:2.0
CALSCALE:GREGORIAN
BEGIN:VEVENT
UID:a26d8da6f31dbd035a4bd4e80598b8e7
DTSTAMP:20260420T002920Z
SUMMARY:Eisenberg Berry Festival 2026
DESCRIPTION:Jewish Federation of Central Massachusetts\nCalendar\nhttps://j
 ewishcentralmass.org/calendar/eisenberg-berry-festival-2026\n\nEisenberg B
 erry Festival – Wednesday June 24\, 2026 (parking will be busy)
DTSTART;TZID=America/New_York:20260624T100000
DTEND;TZID=America/New_York:20260624T160000
END:VEVENT
END:VCALENDAR
