BEGIN:VCALENDAR
PRODID:-//eluceo/ical//2.0/EN
VERSION:2.0
CALSCALE:GREGORIAN
BEGIN:VEVENT
UID:dd8c549e3b64640fc85fd05d20efe740
DTSTAMP:20260422T121648Z
SUMMARY:Eisenberg Annual Berry Fest - 2023
DESCRIPTION:Jewish Federation of Central Massachusetts\nCalendar\nhttps://j
 ewishcentralmass.org/calendar/eisenberg-annual-berry-fest-2023\n\nThursday
 \, June 22\, 5:00 p.m. Eisenberg Annual Berry Fest.
DTSTART;TZID=America/New_York:20230622T170000
DTEND;TZID=America/New_York:20230622T190000
END:VEVENT
END:VCALENDAR
