BEGIN:VCALENDAR
PRODID:-//eluceo/ical//2.0/EN
VERSION:2.0
CALSCALE:GREGORIAN
BEGIN:VEVENT
UID:ab9c437c8269baf9a4d0e27e1f28de9f
DTSTAMP:20260423T070549Z
SUMMARY:TES Eco Shabbat Weekend - Evening Services
DESCRIPTION:Jewish Federation of Central Massachusetts\nCalendar\nhttps://j
 ewishcentralmass.org/calendar/eco-shabbat-weekend-evening-services\n\nFrid
 ay\, June 2 at 7:30 pm Eco Shabbat Weekend begins with Shabbat evening ser
 vice with sermon by Rabbi Natan Margalit “Three Bridges from Ancient Jew
 ish Wisdom to Modern Eco-Activism.”
DTSTART;TZID=America/New_York:20170602T193000
DTEND;TZID=America/New_York:20170602T213000
END:VEVENT
END:VCALENDAR
