BEGIN:VCALENDAR
PRODID:-//eluceo/ical//2.0/EN
VERSION:2.0
CALSCALE:GREGORIAN
BEGIN:VEVENT
UID:46096f23c502e9367f3bf3c4763286ae
DTSTAMP:20260423T133328Z
SUMMARY:Dr. Ron Wolfson: Relational Judaism III
DESCRIPTION:Jewish Federation of Central Massachusetts\nCalendar\nhttps://j
 ewishcentralmass.org/calendar/dr-ron-wolfson-relational-judaism-iii\n\nCli
 ck here for the flyer.
DTSTART;TZID=America/New_York:20141109T093000
DTEND;TZID=America/New_York:20141109T111500
END:VEVENT
END:VCALENDAR
