BEGIN:VCALENDAR
PRODID:-//eluceo/ical//2.0/EN
VERSION:2.0
CALSCALE:GREGORIAN
BEGIN:VEVENT
UID:1b8dcd10564b666b8e84a6a5ce77b8cf
DTSTAMP:20260423T153529Z
SUMMARY:Dr. Ron Wolfson: Relational Judaism II
DESCRIPTION:Jewish Federation of Central Massachusetts\nCalendar\nhttps://j
 ewishcentralmass.org/calendar/dr-ron-wolfson-relational-judaism-ii\n\nClic
 k here for the flyer.
DTSTART;TZID=America/New_York:20141108T093000
DTEND;TZID=America/New_York:20141108T120000
END:VEVENT
END:VCALENDAR
