BEGIN:VCALENDAR
PRODID:-//eluceo/ical//2.0/EN
VERSION:2.0
CALSCALE:GREGORIAN
BEGIN:VEVENT
UID:c6b0ec238bf6167170b89129a397dd75
DTSTAMP:20260422T062230Z
SUMMARY:Dr. Ron Wolfson: Relational Judaism I
DESCRIPTION:Jewish Federation of Central Massachusetts\nCalendar\nhttps://j
 ewishcentralmass.org/calendar/dr-ron-wolfson-relational-judaism-i\n\nClick
  here for the flyer.
DTSTART;TZID=America/New_York:20141107T193000
DTEND;TZID=America/New_York:20141107T210000
END:VEVENT
END:VCALENDAR
