BEGIN:VCALENDAR
PRODID:-//eluceo/ical//2.0/EN
VERSION:2.0
CALSCALE:GREGORIAN
BEGIN:VEVENT
UID:f7a8a49846b1ed7eabd4c48f048d67cc
DTSTAMP:20260419T150812Z
SUMMARY:Clark University presents Chaifetz lecture by Dr. Ron Kronish
DESCRIPTION:Jewish Federation of Central Massachusetts\nCalendar\nhttps://j
 ewishcentralmass.org/calendar/dr-ron-kronish-lecture\n\nLecture sponsored 
 by the Jewish Studies Dept at Clark University\n\n“The Other Peace Proce
 ss” – The Role of Inter-religious Dialogue in Israel and the Middle Ea
 st\n\nSunday\, October 19th at 4:00pm Grace Conference Room in the Higgins
  Center at Clark University
DTSTART;TZID=America/New_York:20251019T160000
DTEND;TZID=America/New_York:20251019T180000
END:VEVENT
END:VCALENDAR
