BEGIN:VCALENDAR
PRODID:-//eluceo/ical//2.0/EN
VERSION:2.0
CALSCALE:GREGORIAN
BEGIN:VEVENT
UID:42c45bfd90ba2a087f9251a4dc76a792
DTSTAMP:20260422T133043Z
SUMMARY:Donor Event at Clark
DESCRIPTION:Jewish Federation of Central Massachusetts\nCalendar\nhttps://j
 ewishcentralmass.org/calendar/donor-event-at-clark\n\nDonor Event at Clark
 \n\nApril 26 at 6pm\n\nGrace Conference Room
DTSTART;TZID=America/New_York:20180426T180000
DTEND;TZID=America/New_York:20180426T200000
END:VEVENT
END:VCALENDAR
