BEGIN:VCALENDAR
PRODID:-//eluceo/ical//2.0/EN
VERSION:2.0
CALSCALE:GREGORIAN
BEGIN:VEVENT
UID:9bb2fde311ec15078db96c5588633822
DTSTAMP:20260422T212453Z
SUMMARY:Cultural Series on Israel with Aviv our Shaliach - October
DESCRIPTION:Jewish Federation of Central Massachusetts\nCalendar\nhttps://j
 ewishcentralmass.org/calendar/cultural-series-on-israel-with-aviv-our-shal
 iach-october\n\nCultural Series on Israel with Aviv our Shaliach\n\nOctobe
 r 13 at 5:00 pm\n\nClick here for more inforation
DTSTART;TZID=America/New_York:20211013T170000
DTEND;TZID=America/New_York:20211013T190000
END:VEVENT
END:VCALENDAR
