BEGIN:VCALENDAR
PRODID:-//eluceo/ical//2.0/EN
VERSION:2.0
CALSCALE:GREGORIAN
BEGIN:VEVENT
UID:e88021068a8d8f5ab82b8c53ee08d693
DTSTAMP:20260424T092303Z
SUMMARY:Creative Shabbat Rituals to Bring Into Your Home
DESCRIPTION:Jewish Federation of Central Massachusetts\nCalendar\nhttps://j
 ewishcentralmass.org/calendar/creative-shabbat-rituals-to-bring-into-your-
 home\n\nThursday\, February 15th\, 6:30 pm\n\nCreative Shabbat Rituals to 
 Bring Into Your Home (zoom option avail)\n\nRabbi Valerie Cohen Temple Ema
 nuel Sinai \, Worcester\n\nRSVP: office@emanuelsinai.org
DTSTART;TZID=America/New_York:20240215T183000
DTEND;TZID=America/New_York:20240215T203000
END:VEVENT
END:VCALENDAR
