BEGIN:VCALENDAR
PRODID:-//eluceo/ical//2.0/EN
VERSION:2.0
CALSCALE:GREGORIAN
BEGIN:VEVENT
UID:82bd591dfb8eb46e76a28926deb74e10
DTSTAMP:20260422T181812Z
SUMMARY:Cotton Leadership Series Part III
DESCRIPTION:Jewish Federation of Central Massachusetts\nCalendar\nhttps://j
 ewishcentralmass.org/calendar/cotton-leadership-series-part-iii\n\nCotton 
 Leadership Series Part III
DTSTART;TZID=America/New_York:20140209T103000
DTEND;TZID=America/New_York:20140209T120000
END:VEVENT
END:VCALENDAR
