BEGIN:VCALENDAR
PRODID:-//eluceo/ical//2.0/EN
VERSION:2.0
CALSCALE:GREGORIAN
BEGIN:VEVENT
UID:edf89ffed5a78eb8cab631c7d400a9e4
DTSTAMP:20260422T163839Z
SUMMARY:Cotton Leadership Series Part II
DESCRIPTION:Jewish Federation of Central Massachusetts\nCalendar\nhttps://j
 ewishcentralmass.org/calendar/cotton-leadership-series-part-ii\n\nCotton L
 eadership Series Part II
DTSTART;TZID=America/New_York:20140112T103000
DTEND;TZID=America/New_York:20140112T120000
END:VEVENT
END:VCALENDAR
