BEGIN:VCALENDAR
PRODID:-//eluceo/ical//2.0/EN
VERSION:2.0
CALSCALE:GREGORIAN
BEGIN:VEVENT
UID:73a6be9a2ef388dc4d3e88081eb7bb5d
DTSTAMP:20260423T090237Z
SUMMARY:Cotton Leadership Series Part 1
DESCRIPTION:Jewish Federation of Central Massachusetts\nCalendar\nhttps://j
 ewishcentralmass.org/calendar/cotton-leadership-series-part-1\n\nCotton Le
 adership Series Part 1
DTSTART;TZID=America/New_York:20131215T103000
DTEND;TZID=America/New_York:20131215T120000
END:VEVENT
END:VCALENDAR
