BEGIN:VCALENDAR
PRODID:-//eluceo/ical//2.0/EN
VERSION:2.0
CALSCALE:GREGORIAN
BEGIN:VEVENT
UID:f626d7675bb05c4e0e44813e837dd013
DTSTAMP:20260423T142321Z
SUMMARY:Congregation B'nai Shalom Tot Shabbat
DESCRIPTION:Jewish Federation of Central Massachusetts\nCalendar\nhttps://j
 ewishcentralmass.org/calendar/congregation-bnai-shalom-tot-shabbat6\n\nCon
 gregation B'nai Shalom Tot Shabbat in Main Sanctuary
DTSTART;TZID=America/New_York:20150523T101500
DTEND;TZID=America/New_York:20150523T111500
END:VEVENT
END:VCALENDAR
