BEGIN:VCALENDAR
PRODID:-//eluceo/ical//2.0/EN
VERSION:2.0
CALSCALE:GREGORIAN
BEGIN:VEVENT
UID:1f94f52555a3f4a9a1d289b46e7bc96e
DTSTAMP:20260420T161019Z
SUMMARY:Congregation B'nai Shalom Tot Shabbat
DESCRIPTION:Jewish Federation of Central Massachusetts\nCalendar\nhttps://j
 ewishcentralmass.org/calendar/congregation-bnai-shalom-tot-shabbat5\n\nCon
 gregation B'nai Shalom Tot Shabbat in Main Sanctuary\n 
DTSTART;TZID=America/New_York:20150321T101500
DTEND;TZID=America/New_York:20150321T111500
END:VEVENT
END:VCALENDAR
