BEGIN:VCALENDAR
PRODID:-//eluceo/ical//2.0/EN
VERSION:2.0
CALSCALE:GREGORIAN
BEGIN:VEVENT
UID:79071bcc47b4f3cb60bd3d6c3af1a894
DTSTAMP:20260422T051603Z
SUMMARY:Congregation B'nai Shalom Tot Shabbat
DESCRIPTION:Jewish Federation of Central Massachusetts\nCalendar\nhttps://j
 ewishcentralmass.org/calendar/congregation-bnai-shalom-tot-shabbat2\n\nCon
 gregation B'nai Shalom Tot Shabbat in Main Sanctuary
DTSTART;TZID=America/New_York:20141220T101500
DTEND;TZID=America/New_York:20141220T111500
END:VEVENT
END:VCALENDAR
