BEGIN:VCALENDAR
PRODID:-//eluceo/ical//2.0/EN
VERSION:2.0
CALSCALE:GREGORIAN
BEGIN:VEVENT
UID:67c12f224d3b414bf35641161f3909f9
DTSTAMP:20260421T130215Z
SUMMARY:Congregation B'nai Shalom Purim Carnival 
DESCRIPTION:Jewish Federation of Central Massachusetts\nCalendar\nhttps://j
 ewishcentralmass.org/calendar/congregation-bnai-shalom-purim-carnival\n\nP
 urim Carnival at Congregation B'nai Shalom
DTSTART;TZID=America/New_York:20150308T110000
DTEND;TZID=America/New_York:20150308T130000
END:VEVENT
END:VCALENDAR
