BEGIN:VCALENDAR
PRODID:-//eluceo/ical//2.0/EN
VERSION:2.0
CALSCALE:GREGORIAN
BEGIN:VEVENT
UID:0b8f586bb396312e976080e101e35fb6
DTSTAMP:20260421T105643Z
SUMMARY:Congregation B'nai Shalom presents A Night of Comedy and Community 
  featuri
DESCRIPTION:Jewish Federation of Central Massachusetts\nCalendar\nhttps://j
 ewishcentralmass.org/calendar/congregation-bnai-shalom-presents-a-night-of
 -comedy-and-community--featuring-comedian-rabbi-bob-alpe\n\nCBS Comedy Nig
 ht with Rabbi Bob Alper
DTSTART;TZID=America/New_York:20140208T190000
DTEND;TZID=America/New_York:20140208T230000
END:VEVENT
END:VCALENDAR
