BEGIN:VCALENDAR
PRODID:-//eluceo/ical//2.0/EN
VERSION:2.0
CALSCALE:GREGORIAN
BEGIN:VEVENT
UID:7a46a2e1c7d0394c1f4415731e130a37
DTSTAMP:20260422T120928Z
SUMMARY:Congregation B'nai Shalom Mitzvah Day
DESCRIPTION:Jewish Federation of Central Massachusetts\nCalendar\nhttps://j
 ewishcentralmass.org/calendar/congregation-bnai-shalom-mitzvah-day\n\nCBS 
 Mitzvah Day
DTSTART;TZID=America/New_York:20130428T090000
DTEND;TZID=America/New_York:20130428T093000
END:VEVENT
END:VCALENDAR
