BEGIN:VCALENDAR
PRODID:-//eluceo/ical//2.0/EN
VERSION:2.0
CALSCALE:GREGORIAN
BEGIN:VEVENT
UID:7ea4caf255414e0e9dcd7e903507901c
DTSTAMP:20260421T152211Z
SUMMARY:Congregation B'nai Shalom Lunch Progr
DESCRIPTION:Jewish Federation of Central Massachusetts\nCalendar\nhttps://j
 ewishcentralmass.org/calendar/congregation-bnai-shalom-lunch-progr\n\nCBS 
 Lunch Prog
DTSTART;TZID=America/New_York:20130119T120000
DTEND;TZID=America/New_York:20130119T123000
END:VEVENT
END:VCALENDAR
