BEGIN:VCALENDAR
PRODID:-//eluceo/ical//2.0/EN
VERSION:2.0
CALSCALE:GREGORIAN
BEGIN:VEVENT
UID:514169a481f963a46c09fa8823980d82
DTSTAMP:20260423T034939Z
SUMMARY:Congregation B'nai Shalom Light! Interfaith Music and Mingle Gather
 ing
DESCRIPTION:Jewish Federation of Central Massachusetts\nCalendar\nhttps://j
 ewishcentralmass.org/calendar/congregation-bnai-shalom-light-interfaith-mu
 sic-and-mingle-gathering\n\nLight! Interfaith Music and Mingle Gathering
DTSTART;TZID=America/New_York:20171216T190000
DTEND;TZID=America/New_York:20171216T213000
END:VEVENT
END:VCALENDAR
