BEGIN:VCALENDAR
PRODID:-//eluceo/ical//2.0/EN
VERSION:2.0
CALSCALE:GREGORIAN
BEGIN:VEVENT
UID:ee386a7c7d6a93af9cfc603297c7dd98
DTSTAMP:20260421T163504Z
SUMMARY:Congregation B'nai Shalom Fundraiser
DESCRIPTION:Jewish Federation of Central Massachusetts\nCalendar\nhttps://j
 ewishcentralmass.org/calendar/congregation-bnai-shalom-fundraiser\n\nCBS F
 undraiser
DTSTART;TZID=America/New_York:20130112T190000
DTEND;TZID=America/New_York:20130112T230000
END:VEVENT
END:VCALENDAR
