BEGIN:VCALENDAR
PRODID:-//eluceo/ical//2.0/EN
VERSION:2.0
CALSCALE:GREGORIAN
BEGIN:VEVENT
UID:dbde120b3ae47736a14362c3932b091a
DTSTAMP:20260423T161706Z
SUMMARY:Congregation B'nai Shalom Board Meeting
DESCRIPTION:Jewish Federation of Central Massachusetts\nCalendar\nhttps://j
 ewishcentralmass.org/calendar/congregation-bnai-shalom-board-meeting\n\nCB
 S Bd
DTSTART;TZID=America/New_York:20130102T193000
DTEND;TZID=America/New_York:20130102T200000
END:VEVENT
END:VCALENDAR
