BEGIN:VCALENDAR
PRODID:-//eluceo/ical//2.0/EN
VERSION:2.0
CALSCALE:GREGORIAN
BEGIN:VEVENT
UID:4d2963cf5a0dedfcd62760e80485a439
DTSTAMP:20260424T155516Z
SUMMARY:Congregation B'nai Shalom Annual Meeting
DESCRIPTION:Jewish Federation of Central Massachusetts\nCalendar\nhttps://j
 ewishcentralmass.org/calendar/congregation-bnai-shalom-annual-meeting\n\nC
 BS Annual Mtg
DTSTART;TZID=America/New_York:20130505T090000
DTEND;TZID=America/New_York:20130505T093000
END:VEVENT
END:VCALENDAR
