BEGIN:VCALENDAR
PRODID:-//eluceo/ical//2.0/EN
VERSION:2.0
CALSCALE:GREGORIAN
BEGIN:VEVENT
UID:805e84463cd3d816aa575e02d974779a
DTSTAMP:20260422T221213Z
SUMMARY:Congregation Beth Israel Synaplex
DESCRIPTION:Jewish Federation of Central Massachusetts\nCalendar\nhttps://j
 ewishcentralmass.org/calendar/congregation-beth-israel-synaplex\n\nBI Syna
 plex
DTSTART;TZID=America/New_York:20130426T000000
DTEND;TZID=America/New_York:20130427T235900
END:VEVENT
END:VCALENDAR
