BEGIN:VCALENDAR
PRODID:-//eluceo/ical//2.0/EN
VERSION:2.0
CALSCALE:GREGORIAN
BEGIN:VEVENT
UID:1fd626764d8a8e4861041845f1101bc7
DTSTAMP:20260423T230832Z
SUMMARY:Congregation Beth Israel Sisterhood Shabbat
DESCRIPTION:Jewish Federation of Central Massachusetts\nCalendar\nhttps://j
 ewishcentralmass.org/calendar/congregation-beth-israel-sisterhood-shabbat\
 n\nBI Sist Shabbat
DTSTART;TZID=America/New_York:20130504T100000
DTEND;TZID=America/New_York:20130504T103000
END:VEVENT
END:VCALENDAR
